BEGIN:VCALENDAR
VERSION:2.0
PRODID:-//Milwaukee Lawn Bowling - ECPv6.15.20//NONSGML v1.0//EN
CALSCALE:GREGORIAN
METHOD:PUBLISH
X-ORIGINAL-URL:https://milwaukeelawnbowls.com
X-WR-CALDESC:Events for Milwaukee Lawn Bowling
REFRESH-INTERVAL;VALUE=DURATION:PT1H
X-Robots-Tag:noindex
X-PUBLISHED-TTL:PT1H
BEGIN:VTIMEZONE
TZID:America/Chicago
BEGIN:DAYLIGHT
TZOFFSETFROM:-0600
TZOFFSETTO:-0500
TZNAME:CDT
DTSTART:20250309T080000
END:DAYLIGHT
BEGIN:STANDARD
TZOFFSETFROM:-0500
TZOFFSETTO:-0600
TZNAME:CST
DTSTART:20251102T070000
END:STANDARD
BEGIN:DAYLIGHT
TZOFFSETFROM:-0600
TZOFFSETTO:-0500
TZNAME:CDT
DTSTART:20260308T080000
END:DAYLIGHT
BEGIN:STANDARD
TZOFFSETFROM:-0500
TZOFFSETTO:-0600
TZNAME:CST
DTSTART:20261101T070000
END:STANDARD
BEGIN:DAYLIGHT
TZOFFSETFROM:-0600
TZOFFSETTO:-0500
TZNAME:CDT
DTSTART:20270314T080000
END:DAYLIGHT
BEGIN:STANDARD
TZOFFSETFROM:-0500
TZOFFSETTO:-0600
TZNAME:CST
DTSTART:20271107T070000
END:STANDARD
END:VTIMEZONE
BEGIN:VEVENT
DTSTART;TZID=America/Chicago:20260603T190000
DTEND;TZID=America/Chicago:20260603T210000
DTSTAMP:20260425T223914
CREATED:20260228T221038Z
LAST-MODIFIED:20260228T221038Z
UID:8421-1780513200-1780520400@milwaukeelawnbowls.com
SUMMARY:Wildcard
DESCRIPTION:Wednesday evening league. Varied game format league.
URL:https://milwaukeelawnbowls.com/event/wildcard-24/
LOCATION:Lake Park\, 2975 N Lake Park Rd\, Milwaukee\, WI\, 53211\, United States
CATEGORIES:League,Wednesday
END:VEVENT
BEGIN:VEVENT
DTSTART;TZID=America/Chicago:20260610T190000
DTEND;TZID=America/Chicago:20260610T210000
DTSTAMP:20260425T223914
CREATED:20260228T221038Z
LAST-MODIFIED:20260228T221038Z
UID:8422-1781118000-1781125200@milwaukeelawnbowls.com
SUMMARY:Wildcard
DESCRIPTION:Wednesday evening league. Varied game format league.
URL:https://milwaukeelawnbowls.com/event/wildcard-25/
LOCATION:Lake Park\, 2975 N Lake Park Rd\, Milwaukee\, WI\, 53211\, United States
CATEGORIES:League,Wednesday
END:VEVENT
BEGIN:VEVENT
DTSTART;TZID=America/Chicago:20260617T190000
DTEND;TZID=America/Chicago:20260617T210000
DTSTAMP:20260425T223914
CREATED:20260228T221038Z
LAST-MODIFIED:20260228T221038Z
UID:8423-1781722800-1781730000@milwaukeelawnbowls.com
SUMMARY:Wildcard
DESCRIPTION:Wednesday evening league. Varied game format league.
URL:https://milwaukeelawnbowls.com/event/wildcard-26/
LOCATION:Lake Park\, 2975 N Lake Park Rd\, Milwaukee\, WI\, 53211\, United States
CATEGORIES:League,Wednesday
END:VEVENT
BEGIN:VEVENT
DTSTART;TZID=America/Chicago:20260624T190000
DTEND;TZID=America/Chicago:20260624T210000
DTSTAMP:20260425T223914
CREATED:20260228T221038Z
LAST-MODIFIED:20260228T221038Z
UID:8424-1782327600-1782334800@milwaukeelawnbowls.com
SUMMARY:Wildcard
DESCRIPTION:Wednesday evening league. Varied game format league.
URL:https://milwaukeelawnbowls.com/event/wildcard-27/
LOCATION:Lake Park\, 2975 N Lake Park Rd\, Milwaukee\, WI\, 53211\, United States
CATEGORIES:League,Wednesday
END:VEVENT
END:VCALENDAR